BEGIN:VCALENDAR
VERSION:2.0
PRODID:-//Die Grüne Bildungswerkstatt Oberösterreich - ECPv6.6.4.2//NONSGML v1.0//EN
CALSCALE:GREGORIAN
METHOD:PUBLISH
X-ORIGINAL-URL:https://ooe.gbw.at
X-WR-CALDESC:Veranstaltungen für Die Grüne Bildungswerkstatt Oberösterreich
REFRESH-INTERVAL;VALUE=DURATION:PT1H
X-Robots-Tag:noindex
X-PUBLISHED-TTL:PT1H
BEGIN:VTIMEZONE
TZID:Europe/Vienna
BEGIN:DAYLIGHT
TZOFFSETFROM:+0100
TZOFFSETTO:+0200
TZNAME:CEST
DTSTART:20260329T010000
END:DAYLIGHT
BEGIN:STANDARD
TZOFFSETFROM:+0200
TZOFFSETTO:+0100
TZNAME:CET
DTSTART:20261025T010000
END:STANDARD
END:VTIMEZONE
BEGIN:VEVENT
DTSTART;TZID=Europe/Vienna:20260313T150000
DTEND;TZID=Europe/Vienna:20260313T190000
DTSTAMP:20260424T184208
CREATED:20250704T105441Z
LAST-MODIFIED:20260213T102543Z
UID:10000156-1773414000-1773428400@ooe.gbw.at
SUMMARY:Gemeinderät:in für einen Abend
DESCRIPTION:Wie funktioniert ein Gemeinderat? Was wird wann\, wie und vor allem warum beschlossen? \nDiesen Fragen widmen wir uns im Rahmen eines spannenden\, aber auch humorvollen Planspiels. Wir nehmen die verschiedenen Rollen in einem fiktiven Gemeinderat ein und diskutieren über Tagesordnungspunkte\, Geschäftsordnung und Inhalte. \nVorab gibt es einen „Crashkurs“ zu den wesentlichen rechtlichen Grundlagen\, die für so eine Sitzung wichtig sind. Das Planspiel wird moderiert und es stehen kommunalpolitische Profis mit Rat und Tat zur Seite. \nWer also schon einmal überlegt hat\, für den Gemeinderat zu kandidieren\, ist hier genau richtig. Als Gemeinderät:in für zumindest einen Abend. \n\n  \nEintritt frei\, anmeldepflichtig. \n  \nEine Kooperation mit Die Grünen OÖ/Gemeindegruppenservice
URL:https://ooe.gbw.at/programm/260313/
LOCATION:Dachsaal der Grünen Bildungswerkstatt OÖ\, Landgutstraße 17\, Linz\, 4040\, Österreich
CATEGORIES:Workshop
ATTACH;FMTTYPE=image/jpeg:https://ooe.gbw.at/wp-content/uploads/2025/07/planspiel.jpg
ORGANIZER;CN="Die Gr%C3%BCne Bildungswerkstatt O%C3%96":MAILTO:office.ooe@gbw.at
END:VEVENT
END:VCALENDAR