BEGIN:VCALENDAR
VERSION:2.0
PRODID:-//Die Grüne Bildungswerkstatt Oberösterreich - ECPv6.6.4.2//NONSGML v1.0//EN
CALSCALE:GREGORIAN
METHOD:PUBLISH
X-ORIGINAL-URL:https://ooe.gbw.at
X-WR-CALDESC:Veranstaltungen für Die Grüne Bildungswerkstatt Oberösterreich
REFRESH-INTERVAL;VALUE=DURATION:PT1H
X-Robots-Tag:noindex
X-PUBLISHED-TTL:PT1H
BEGIN:VTIMEZONE
TZID:Europe/Vienna
BEGIN:DAYLIGHT
TZOFFSETFROM:+0100
TZOFFSETTO:+0200
TZNAME:CEST
DTSTART:20260329T010000
END:DAYLIGHT
BEGIN:STANDARD
TZOFFSETFROM:+0200
TZOFFSETTO:+0100
TZNAME:CET
DTSTART:20261025T010000
END:STANDARD
END:VTIMEZONE
BEGIN:VEVENT
DTSTART;TZID=Europe/Vienna:20260314T093000
DTEND;TZID=Europe/Vienna:20260314T170000
DTSTAMP:20260424T184522
CREATED:20250825T094747Z
LAST-MODIFIED:20260213T105320Z
UID:10000175-1773480600-1773507600@ooe.gbw.at
SUMMARY:Neue Leute für die politische Arbeit begeistern
DESCRIPTION:  \nPolitische Arbeit und zivilgesellschaftliches Engagement stehen vor einer großen Herausforderung: Wie gewinnen wir neue\, engagierte Köpfe\, die bereit sind\, Verantwortung zu übernehmen und unsere Ziele voranzubringen? \nHäufig scheitern ambitionierte Projekte nicht an fehlenden Ideen\, sondern an überlasteten Strukturen und mangelnder Nachwuchsgewinnung. \nDieser Workshop bietet einen strukturierten Kompass\, um neue Leute zu aktivieren und in die bestehende Gruppe einzubinden. \n  \nKernthemen: \n\nHistorie/Weiterentwicklung ehrenamtlicher Arbeit\nOrganisations- und Personalentwicklung\nAttraktivität der politischen Arbeit\nBest Practice der „Rekrutierung“\nund noch so einiges mehr…\n\n  \n  \n\n\n  \nReferentin: Mag.a (FH) Sandra Prommer \n  \nTeilnahmegebühr: EUR 50\,– \n  \nEtwaige Reise- und Übernachtungskosten sind nicht im Preis inbegriffen.
URL:https://ooe.gbw.at/programm/260314/
LOCATION:Dachsaal – Grüne Bildungswerkstatt OÖ\, Landgutstraße 17\, Linz\, 4040\, Österreich
CATEGORIES:Seminar,Workshop
ATTACH;FMTTYPE=image/jpeg:https://ooe.gbw.at/wp-content/uploads/2024/11/ehrenamt-1920-x-1080-px.jpg
ORGANIZER;CN="Die Gr%C3%BCne Bildungswerkstatt O%C3%96":MAILTO:office.ooe@gbw.at
END:VEVENT
END:VCALENDAR