BEGIN:VCALENDAR
VERSION:2.0
PRODID:-//Die Grüne Bildungswerkstatt Oberösterreich - ECPv6.6.4.2//NONSGML v1.0//EN
CALSCALE:GREGORIAN
METHOD:PUBLISH
X-WR-CALNAME:Die Grüne Bildungswerkstatt Oberösterreich
X-ORIGINAL-URL:https://ooe.gbw.at
X-WR-CALDESC:Veranstaltungen für Die Grüne Bildungswerkstatt Oberösterreich
REFRESH-INTERVAL;VALUE=DURATION:PT1H
X-Robots-Tag:noindex
X-PUBLISHED-TTL:PT1H
BEGIN:VTIMEZONE
TZID:Europe/Vienna
BEGIN:DAYLIGHT
TZOFFSETFROM:+0100
TZOFFSETTO:+0200
TZNAME:CEST
DTSTART:20260329T010000
END:DAYLIGHT
BEGIN:STANDARD
TZOFFSETFROM:+0200
TZOFFSETTO:+0100
TZNAME:CET
DTSTART:20261025T010000
END:STANDARD
END:VTIMEZONE
BEGIN:VEVENT
DTSTART;TZID=Europe/Vienna:20260325T093000
DTEND;TZID=Europe/Vienna:20260325T170000
DTSTAMP:20260424T184005
CREATED:20250717T134257Z
LAST-MODIFIED:20260311T125238Z
UID:10000174-1774431000-1774458000@ooe.gbw.at
SUMMARY:Strategien gegen häusliche Gewalt und Femizide als gesamtgesellschaftlicher Auftrag.
DESCRIPTION:Häusliche Gewalt und Femizide sind keine Einzelfälle – sie sind Ausdruck struktureller Ungleichheit und ein tiefgreifendes gesellschaftliches Problem. \nPrävention bedeutet nicht nur Schutz und Intervention\, sondern auch Aufklärung\, Vernetzung und langfristiges Umdenken. Dieses Symposium bringt Expert:innen aus Praxis\, Wissenschaft\, Exekutive\, Justiz\, Politik und Zivilgesellschaft zusammen\, um wirksame Strategien zur Gewaltprävention zu entwickeln und Handlungsspielräume zu stärken. \nVorträge\, Expert:innen-Talks\, Raum für Diskussionen und Vernetzung werden im Zuge dieses Symposiums geboten. \n  \n\n  \nEine Kooperation der Grünen Bildungswerkstatt OÖ mit dem Grünen Klub im Oö Landtag und den Grünen Frauen OÖ. \n  \nDas detaillierte Programm steht hier zur Verfügung.
URL:https://ooe.gbw.at/programm/symposium-26/
LOCATION:Sonnenstein Loft\, Sonnensteinstraße 11-13\, Linz\, 4040\, Austria
CATEGORIES:Symposium
ATTACH;FMTTYPE=image/jpeg:https://ooe.gbw.at/wp-content/uploads/2025/07/Postkarte-Symposium-Praesentation.jpg
ORGANIZER;CN="Die Gr%C3%BCne Bildungswerkstatt O%C3%96":MAILTO:office.ooe@gbw.at
END:VEVENT
END:VCALENDAR