BEGIN:VCALENDAR
VERSION:2.0
PRODID:-//Die Grüne Bildungswerkstatt Oberösterreich - ECPv6.6.4.2//NONSGML v1.0//EN
CALSCALE:GREGORIAN
METHOD:PUBLISH
X-ORIGINAL-URL:https://ooe.gbw.at
X-WR-CALDESC:Veranstaltungen für Die Grüne Bildungswerkstatt Oberösterreich
REFRESH-INTERVAL;VALUE=DURATION:PT1H
X-Robots-Tag:noindex
X-PUBLISHED-TTL:PT1H
BEGIN:VTIMEZONE
TZID:Europe/Vienna
BEGIN:DAYLIGHT
TZOFFSETFROM:+0100
TZOFFSETTO:+0200
TZNAME:CEST
DTSTART:20260329T010000
END:DAYLIGHT
BEGIN:STANDARD
TZOFFSETFROM:+0200
TZOFFSETTO:+0100
TZNAME:CET
DTSTART:20261025T010000
END:STANDARD
END:VTIMEZONE
BEGIN:VEVENT
DTSTART;TZID=Europe/Vienna:20260410T150000
DTEND;TZID=Europe/Vienna:20260410T190000
DTSTAMP:20260424T173954
CREATED:20250708T111334Z
LAST-MODIFIED:20260218T145830Z
UID:10000167-1775833200-1775847600@ooe.gbw.at
SUMMARY:Attraktive Ortskerne
DESCRIPTION:Das Modul 3 „Ortsentwicklung“ besteht aus drei Seminaren\, für den Lehrgang „Gemeinde grün gestalten“ sind mindestens zwei davon zu absolvieren. Die unterschiedlichen Teile können auch als Einzelseminare gebucht werden. \n  \nIn diesem Modul geht es um die Aufenthaltsqualität im öffentlichen Raum. Du bekommst einen Überblick über bereits verwirklichte und mutmachende Beispiele aus verschiedenen Orten und für unterschiedliche Zielgruppen\, wie Jugend\, Familien\, Elternteile mit Kleinkind und ältere Menschen. Gespickt mit Hinweisen\, wie die Umsetzung gelingen kann. \n  \nReferentin: Eva Schmolmüller\, MArch BA\, Expertin im Bereich Architektur und Soziale Arbeit \n  \n  \n  \n  \nKosten bei Einzelbuchung: \nPro Seminar (4 UE) EUR 75\,– / GBW-Mitglieder EUR 38\,– / Mitglieder aus Grünen Teilorganisationen EUR 50\,– \nSeminarverpflegung ist inkludiert. Selbst zu tragen sind die Kosten der An- und Abreise bzw. ev. Übernachtungen. \n 
URL:https://ooe.gbw.at/programm/ortskerne/
LOCATION:Dachsaal der Grünen Bildungswerkstatt OÖ\, Landgutstraße 17\, Linz\, 4040\, Österreich
CATEGORIES:Lehrgang,Seminar
ATTACH;FMTTYPE=image/jpeg:https://ooe.gbw.at/wp-content/uploads/2025/07/GGG-3-2.jpg
ORGANIZER;CN="Die Gr%C3%BCne Bildungswerkstatt O%C3%96":MAILTO:office.ooe@gbw.at
END:VEVENT
END:VCALENDAR