BEGIN:VCALENDAR
VERSION:2.0
PRODID:-//Die Grüne Bildungswerkstatt Oberösterreich - ECPv6.6.4.2//NONSGML v1.0//EN
CALSCALE:GREGORIAN
METHOD:PUBLISH
X-WR-CALNAME:Die Grüne Bildungswerkstatt Oberösterreich
X-ORIGINAL-URL:https://ooe.gbw.at
X-WR-CALDESC:Veranstaltungen für Die Grüne Bildungswerkstatt Oberösterreich
REFRESH-INTERVAL;VALUE=DURATION:PT1H
X-Robots-Tag:noindex
X-PUBLISHED-TTL:PT1H
BEGIN:VTIMEZONE
TZID:Europe/Vienna
BEGIN:DAYLIGHT
TZOFFSETFROM:+0100
TZOFFSETTO:+0200
TZNAME:CEST
DTSTART:20260329T010000
END:DAYLIGHT
BEGIN:STANDARD
TZOFFSETFROM:+0200
TZOFFSETTO:+0100
TZNAME:CET
DTSTART:20261025T010000
END:STANDARD
END:VTIMEZONE
BEGIN:VEVENT
DTSTART;TZID=Europe/Vienna:20260417T093000
DTEND;TZID=Europe/Vienna:20260417T170000
DTSTAMP:20260421T103847
CREATED:20250704T131850Z
LAST-MODIFIED:20260326T155854Z
UID:10000157-1776418200-1776445200@ooe.gbw.at
SUMMARY:Dickes Fell statt dicker Hals
DESCRIPTION:Mit Resilienz durch den Alltag. Damit Engagement nicht zur Erschöpfung führt. \nPolitisches Engagement ist von enormer Bedeutung – für jede:n Einzelne:n und für uns als Gesellschaft. Es kostet aber auch Energie und fordert oft Höchstleistungen – besonders im kommunalpolitischen Alltag\, wo Entscheidungen\, Debatten und Dauerbelastung oft Hand in Hand gehen. \nAuch im beruflichen und privaten Alltag verlangen enge Zeitpläne und hohe Erwartungen viel von uns. Umso wichtiger ist es\, den Blick auf die eigenen Ressourcen zu richten – und Wege zu finden\, wie sich Kraft und Gesundheit bewusst stärken und erhalten lassen. \nDieser Workshop lädt dazu ein\, eigene Stressfaktoren zu erkennen\, individuelle Ressourcen zu aktivieren und neue Strategien für einen gesunden Umgang mit Stress und Druck zu entwickeln. In einem praxisnahen Setting wird die Fähigkeit gestärkt\, auch in stürmischen Zeiten klar und wirksam zu bleiben. \nDer Fokus liegt auf Austausch\, Anwendbarkeit und persönlicher Weiterentwicklung. \nReferentin: Mag.a Nicole Sonnleitner \n  \nTeilnahmegebühr: EUR 150\,– \nfür Mitglieder grüner Teilorganisationen: EUR 100\,– \nfür GBW-Mitglieder: EUR 75\,–
URL:https://ooe.gbw.at/programm/dickes-fell-statt-dicker-hals/
LOCATION:Dachsaal der Grünen Bildungswerkstatt OÖ\, Landgutstraße 17\, Linz\, 4040\, Österreich
CATEGORIES:Seminar
ATTACH;FMTTYPE=image/jpeg:https://ooe.gbw.at/wp-content/uploads/2025/07/resilienz-web.jpg
ORGANIZER;CN="Die Gr%C3%BCne Bildungswerkstatt O%C3%96":MAILTO:office.ooe@gbw.at
END:VEVENT
END:VCALENDAR