BEGIN:VCALENDAR
VERSION:2.0
PRODID:-//Die Grüne Bildungswerkstatt Oberösterreich - ECPv6.6.4.2//NONSGML v1.0//EN
CALSCALE:GREGORIAN
METHOD:PUBLISH
X-WR-CALNAME:Die Grüne Bildungswerkstatt Oberösterreich
X-ORIGINAL-URL:https://ooe.gbw.at
X-WR-CALDESC:Veranstaltungen für Die Grüne Bildungswerkstatt Oberösterreich
REFRESH-INTERVAL;VALUE=DURATION:PT1H
X-Robots-Tag:noindex
X-PUBLISHED-TTL:PT1H
BEGIN:VTIMEZONE
TZID:Europe/Vienna
BEGIN:DAYLIGHT
TZOFFSETFROM:+0100
TZOFFSETTO:+0200
TZNAME:CEST
DTSTART:20260329T010000
END:DAYLIGHT
BEGIN:STANDARD
TZOFFSETFROM:+0200
TZOFFSETTO:+0100
TZNAME:CET
DTSTART:20261025T010000
END:STANDARD
END:VTIMEZONE
BEGIN:VEVENT
DTSTART;TZID=Europe/Vienna:20260424T143000
DTEND;TZID=Europe/Vienna:20260424T190000
DTSTAMP:20260424T011543
CREATED:20260119T170523Z
LAST-MODIFIED:20260119T171700Z
UID:10000179-1777041000-1777057200@ooe.gbw.at
SUMMARY:Fakten statt Fake-News
DESCRIPTION:In diesem Workshop lernen die Teilnehmer:innen\, wie sie gezielt Falschmeldungen und Manipulationen im Netz identifizieren und widerlegen können. Sie erhalten praxisnahe Einblicke in den sicheren Umgang mit verschiedenen digitalen Werkzeugen\, darunter Text-\, Bild- und Kartensuchmaschinen. Durch Übungen im Bereich der Archivarbeit lernen sie\, ältere und schwer zugängliche Inhalte aufzuarbeiten und kritisch zu hinterfragen. Die Analyse von Framing und Narrativen hilft dabei\, manipulative Strukturen zu durchschauen.\nZiel ist es\, ein kritisches Verständnis für digitale Inhalte zu entwickeln und mit geeigneten Methoden Falschmeldungen proaktiv zu entkräften. \n  \nReferent: André Wolf\, mimikama.org \n  \n  \n  \nMax. Teilnehmer:innenzahl: 25 \nTeilnahmegebühren: EUR 75\,– / GBW-Mitglieder EUR 38\,– / Mitglieder aus Grünen Teilorganisationen EUR 50\,–
URL:https://ooe.gbw.at/programm/fakten-statt-fake-news/
LOCATION:Grüne Bildungswerkstatt OÖ\, EG-Saal\, Landgutstraße 17\, Grüne Bildungswerkstatt OÖ\, Linz\, 4040\, Austria
CATEGORIES:Workshop
ATTACH;FMTTYPE=image/jpeg:https://ooe.gbw.at/wp-content/uploads/2025/07/fakenews.jpg
ORGANIZER;CN="Die Gr%C3%BCne Bildungswerkstatt O%C3%96":MAILTO:office.ooe@gbw.at
END:VEVENT
BEGIN:VEVENT
DTSTART;TZID=Europe/Vienna:20260424T150000
DTEND;TZID=Europe/Vienna:20260424T190000
DTSTAMP:20260424T011543
CREATED:20250708T111004Z
LAST-MODIFIED:20260218T145921Z
UID:10000166-1777042800-1777057200@ooe.gbw.at
SUMMARY:Mobilitätsmanagement
DESCRIPTION:Das Modul 3 „Ortsentwicklung“ besteht aus drei Seminaren\, für den Lehrgang „Gemeinde grün gestalten“ sind mindestens zwei davon zu absolvieren. Die unterschiedlichen Teile können auch als Einzelseminare gebucht werden. \n  \nKomobile ist als Planungs- und Beratungsbüro im Bereich Mobilität\, seit Jahren in der Konzepterstellung für modernes Mobilitätsmanagement für Städte\, Gemeinden und Regionen tätig. Im Seminar bekommst Du einen Überblick welche umfassenden Mobilitätsmaßnahmen das Erreichen der Öst. Klimaziele unterstützen können\, inkl. Best-Practice-Beispielen. Vorgesehen ist auch\, 1-3 Beispiele von Teilnehmer:innen  konkret zu besprechen. \n  \nReferent: DI Helmut Koch\, co-Gründer Komobile Gmunden \n  \n  \n  \n  \nKosten bei Einzelbuchung: \nPro Seminar (4 UE) EUR 75\,– / GBW-Mitglieder EUR 38\,– / Mitglieder aus Grünen Teilorganisationen EUR 50\,– \nSeminarverpflegung ist inkludiert. Selbst zu tragen sind die Kosten der An- und Abreise bzw. ev. Übernachtungen. \n 
URL:https://ooe.gbw.at/programm/mobilitaet-2/
LOCATION:Dachsaal der Grünen Bildungswerkstatt OÖ\, Landgutstraße 17\, Linz\, 4040\, Österreich
CATEGORIES:Lehrgang,Seminar
ATTACH;FMTTYPE=image/jpeg:https://ooe.gbw.at/wp-content/uploads/2025/07/GGG-3-1.jpg
ORGANIZER;CN="Die Gr%C3%BCne Bildungswerkstatt O%C3%96":MAILTO:office.ooe@gbw.at
END:VEVENT
BEGIN:VEVENT
DTSTART;TZID=Europe/Vienna:20260424T190000
DTEND;TZID=Europe/Vienna:20260424T230000
DTSTAMP:20260424T011543
CREATED:20260312T133150Z
LAST-MODIFIED:20260312T133150Z
UID:10000183-1777057200-1777071600@ooe.gbw.at
SUMMARY:Filmabend: Der automobile Mensch
DESCRIPTION:Der aktuelle Film des Stadtplaners Reinhard Seiß ist ein aufrüttelndes Plädoyer für eine grundlegende Verkehrswende als Voraussetzung für einen ernsthaften Klimaschutz. Dass wir problemlos mit sehr viel weniger Autos auskommen können\, führt der Film anhand überzeugender Beispiele aus dem gesamten deutschen Sprachraum vor Augen. Andererseits zeigt er\, wie politischer Opportunismus und wirtschaftliches Lobbying\, aber auch Technologiegläubigkeit und Wachstumsfixierung einer Wende im Wege stehen. \n\nAnschließend an den Film gibt es die Möglichkeit zur Diskussion mit Filmemacher Reinhard Seiß und der Verkehrssprecherin der Grünen OÖ LAbg. Dagmar Engl.  \n\n\n  \n  \n  \n  \nEintritt frei. \n  \nFoto: © URBAN+
URL:https://ooe.gbw.at/programm/260424film/
LOCATION:Pfarrsaal Altmünster\, Münsterstraße 1\, Altmünster\, 4813\, Austria
CATEGORIES:Diskussion,Filmabend
ATTACH;FMTTYPE=image/jpeg:https://ooe.gbw.at/wp-content/uploads/2026/02/Der-automobile-Mensch.jpg
ORGANIZER;CN="Die Gr%C3%BCne Bildungswerkstatt O%C3%96":MAILTO:office.ooe@gbw.at
END:VEVENT
END:VCALENDAR