BEGIN:VCALENDAR
VERSION:2.0
PRODID:-//Die Grüne Bildungswerkstatt Oberösterreich - ECPv6.6.4.2//NONSGML v1.0//EN
CALSCALE:GREGORIAN
METHOD:PUBLISH
X-WR-CALNAME:Die Grüne Bildungswerkstatt Oberösterreich
X-ORIGINAL-URL:https://ooe.gbw.at
X-WR-CALDESC:Veranstaltungen für Die Grüne Bildungswerkstatt Oberösterreich
REFRESH-INTERVAL;VALUE=DURATION:PT1H
X-Robots-Tag:noindex
X-PUBLISHED-TTL:PT1H
BEGIN:VTIMEZONE
TZID:Europe/Vienna
BEGIN:DAYLIGHT
TZOFFSETFROM:+0100
TZOFFSETTO:+0200
TZNAME:CEST
DTSTART:20260329T010000
END:DAYLIGHT
BEGIN:STANDARD
TZOFFSETFROM:+0200
TZOFFSETTO:+0100
TZNAME:CET
DTSTART:20261025T010000
END:STANDARD
END:VTIMEZONE
BEGIN:VEVENT
DTSTART;TZID=Europe/Vienna:20260926T090000
DTEND;TZID=Europe/Vienna:20260926T180000
DTSTAMP:20260424T221513
CREATED:20250708T113459Z
LAST-MODIFIED:20250825T165610Z
UID:10000170-1790413200-1790445600@ooe.gbw.at
SUMMARY:Kommunikation\, die bewegt
DESCRIPTION:Es gibt da ein Thema\, für das Du brennst\, von dem alle wissen sollen und über das Du schon stundenlang gesprochen hast? Und trotzdem passiert nichts? In diesem Modul kannst Du Deine persönliche Kommunikationsstrategie entwickeln und für Deine Gemeindegruppe eine Kampagne entwerfen. \n  \nAm Freitag davor spricht Landesgeschäftsführerin Ursula Roschger im Online-Talk über die aktuellen strategischen Ziele der Grünen für OÖ. (Dieser Teil steht nur Mitgliedern und Gemeinderät:innen der Grünen offen.) \n  \n  \nReferentin: Stella-Maria Haller Bacc.; Politologin und Kommunikationsexpertin\, PR-Beraterin. \nSpezialisiert auf strategische Kommunikation & Kampagnen (u.a. Greenpeace\, Grüne Steiermark) \n  \nDieses Seminar ist Teil des Lehrgangs „Gemeinde grün gestalten“\, kann aber auch als einzelne Veranstaltung gebucht werden. \n  \nKosten bei Einzelbuchung: \nPro Tagesseminar EUR 150\,– / GBW-Mitglieder EUR 75\,– / Mitglieder aus Grünen Teilorganisationen EUR 100\,– \nTagesverpflegung ist inkludiert. Selbst zu tragen sind die Kosten der An- und Abreise bzw. ev. Übernachtungen.
URL:https://ooe.gbw.at/programm/kampagne-strategie/
LOCATION:Dachsaal der Grünen Bildungswerkstatt OÖ\, Landgutstraße 17\, Linz\, 4040\, Österreich
CATEGORIES:Lehrgang,Seminar
ATTACH;FMTTYPE=image/jpeg:https://ooe.gbw.at/wp-content/uploads/2025/07/GGG-5.jpg
ORGANIZER;CN="Die Gr%C3%BCne Bildungswerkstatt O%C3%96":MAILTO:office.ooe@gbw.at
END:VEVENT
END:VCALENDAR