BEGIN:VCALENDAR
VERSION:2.0
PRODID:-//Die Grüne Bildungswerkstatt Oberösterreich - ECPv6.6.4.2//NONSGML v1.0//EN
CALSCALE:GREGORIAN
METHOD:PUBLISH
X-ORIGINAL-URL:https://ooe.gbw.at
X-WR-CALDESC:Veranstaltungen für Die Grüne Bildungswerkstatt Oberösterreich
REFRESH-INTERVAL;VALUE=DURATION:PT1H
X-Robots-Tag:noindex
X-PUBLISHED-TTL:PT1H
BEGIN:VTIMEZONE
TZID:Europe/Vienna
BEGIN:DAYLIGHT
TZOFFSETFROM:+0100
TZOFFSETTO:+0200
TZNAME:CEST
DTSTART:20260329T010000
END:DAYLIGHT
BEGIN:STANDARD
TZOFFSETFROM:+0200
TZOFFSETTO:+0100
TZNAME:CET
DTSTART:20261025T010000
END:STANDARD
END:VTIMEZONE
BEGIN:VEVENT
DTSTART;TZID=Europe/Vienna:20260508T150000
DTEND;TZID=Europe/Vienna:20260508T190000
DTSTAMP:20260424T172657
CREATED:20250708T111713Z
LAST-MODIFIED:20250708T121210Z
UID:10000168-1778252400-1778266800@ooe.gbw.at
SUMMARY:Bürger:innen in die Gestaltung der Gemeinde einbinden
DESCRIPTION:Das Modul 3 „Ortsentwicklung“ besteht aus drei Seminaren\, für den Lehrgang „Gemeinde grün gestalten“ sind mindestens zwei davon zu absolvieren. Die unterschiedlichen Teile können auch als Einzelseminare gebucht werden. \n  \nImmer mehr Gemeinden schaffen\, über das gesetzlich vorgeschriebenen Maß hinaus\, Modelle ihre Bewohner:innen mitreden zu lassen. \n  \nWas sind die Erfolgsfaktoren\, was ist nicht gelungen? Uli Feichtinger stellt uns das Beteiligungsmodell der Stadt Gmunden vor (seit 2017 im Einsatz) und teilt ihre Erfahrungen als Vorsitzende des Beteiligungsausschusses. \nDer Klimarat\, als Teil des größeren Prozess Klimastrategie oder der Jugendrat und was dabei gut war und weniger gut. Es werden zwei laufende Projekte vorgestellt: die „klimafitte Stadtteilentwicklung“ und die „Verkehrsberuhigung Innenstadt“. \nAls Inspirationsquelle werden partizipation.at und der Leitfaden von „kea“ zum Thema Bürger:innenbeteiligung für klimafitte öffentliche Räume empfohlen. \n  \nReferentin: DI Dr.in Uli Feichtinger\, Vizebürgermeisterin der Stadt Gmunden\, Sprecherin der Grünen Gmunden \n  \n  \n  \n  \nKosten bei Einzelbuchung: \nPro Seminar (4 UE) EUR 75\,– / GBW-Mitglieder EUR 38\,– / Mitglieder aus Grünen Teilorganisationen EUR 50\,– \nSeminarverpflegung ist inkludiert. Selbst zu tragen sind die Kosten der An- und Abreise bzw. ev. Übernachtungen. \n 
URL:https://ooe.gbw.at/programm/buergerinnenbeteiligung/
LOCATION:Dachsaal der Grünen Bildungswerkstatt OÖ\, Landgutstraße 17\, Linz\, 4040\, Österreich
CATEGORIES:Lehrgang,Seminar
ATTACH;FMTTYPE=image/jpeg:https://ooe.gbw.at/wp-content/uploads/2025/07/GGG-3-2-1.jpg
ORGANIZER;CN="Die Gr%C3%BCne Bildungswerkstatt O%C3%96":MAILTO:office.ooe@gbw.at
END:VEVENT
BEGIN:VEVENT
DTSTART;TZID=Europe/Vienna:20260511T170000
DTEND;TZID=Europe/Vienna:20260511T200000
DTSTAMP:20260424T172657
CREATED:20260317T073320Z
LAST-MODIFIED:20260415T093842Z
UID:10000184-1778518800-1778529600@ooe.gbw.at
SUMMARY:Hol Dir das Beste für Deine Pension!
DESCRIPTION:Frauen erhalten in Österreich im Durchschnitt eine um 40 % geringere Pension als Männer (Arbeiterinnen sogar um rund 50 % weniger). \n\nAngst vor dem geringen Pensionsanspruch\, aber auch die scheinbare Komplexität des Themas schreckt viele Frauen ab. Mehr Pensionswissen kann Ängste vor der Beschäftigung mit der eigenen Pension abbauen.  \nDenn das österreichische Pensionssystem enthält für Frauen durchaus positive Aspekte. Beispiele sind die Kindererziehungszeiten oder die Möglichkeit der kostenfreien Pensionsversicherung während der Pflege von Angehörigen und noch einiges mehr. \n  \nWissen übers Pensionssystem zahlt sich aus\, denn das staatliche System bietet sichere Möglichkeiten die eigene Pension zu verbessern.  \nDas frauenorientierte Informationsangebot der FORBA Pensionsexpertin Dr.in Ingrid Mairhuber vermittelt Wissen und schützt vor falschen Entscheidungen und richtet sich bereits an Frauen ab 30. \n\n  \n\nAnmeldeschluss: 8. Mai 2026 \n\nEintritt frei! \n\nDie Veranstaltung ist eine Kooperation mit den Grünen Frauen OÖ. \n\n 
URL:https://ooe.gbw.at/programm/20260511/
LOCATION:Kupferschmied-Haus Neuhofen\, Kirchengasse 12\, Neuhofen an der Krems\, 4501\, Austria
CATEGORIES:Workshop
ATTACH;FMTTYPE=image/jpeg:https://ooe.gbw.at/wp-content/uploads/2024/02/GroupOfFemaleSeniors_iStock-1475287700_web1920.jpg
ORGANIZER;CN="Die Gr%C3%BCne Bildungswerkstatt O%C3%96":MAILTO:office.ooe@gbw.at
END:VEVENT
END:VCALENDAR