BEGIN:VCALENDAR
VERSION:2.0
PRODID:-//Die Grüne Bildungswerkstatt Oberösterreich - ECPv6.6.4.2//NONSGML v1.0//EN
CALSCALE:GREGORIAN
METHOD:PUBLISH
X-WR-CALNAME:Die Grüne Bildungswerkstatt Oberösterreich
X-ORIGINAL-URL:https://ooe.gbw.at
X-WR-CALDESC:Veranstaltungen für Die Grüne Bildungswerkstatt Oberösterreich
REFRESH-INTERVAL;VALUE=DURATION:PT1H
X-Robots-Tag:noindex
X-PUBLISHED-TTL:PT1H
BEGIN:VTIMEZONE
TZID:Europe/Vienna
BEGIN:DAYLIGHT
TZOFFSETFROM:+0100
TZOFFSETTO:+0200
TZNAME:CEST
DTSTART:20250330T010000
END:DAYLIGHT
BEGIN:STANDARD
TZOFFSETFROM:+0200
TZOFFSETTO:+0100
TZNAME:CET
DTSTART:20251026T010000
END:STANDARD
END:VTIMEZONE
BEGIN:VEVENT
DTSTART;TZID=Europe/Vienna:20250117T150000
DTEND;TZID=Europe/Vienna:20250117T180000
DTSTAMP:20260420T053110
CREATED:20240903T130215Z
LAST-MODIFIED:20250113T141620Z
UID:10000126-1737126000-1737136800@ooe.gbw.at
SUMMARY:Hol Dir das Beste für Deine Pension!
DESCRIPTION:Frauen erhalten in Österreich im Durchschnitt eine um 40 % geringere Pension als Männer (Arbeiterinnen sogar um rund 50 % weniger). \nAngst vor dem geringen Pensionsanspruch\, aber auch die scheinbare Komplexität des Themas schreckt viele Frauen ab. Mehr Pensionswissen kann Ängste vor der Beschäftigung mit der eigenen Pension abbauen. Denn das österreichische Pensionssystem enthält für Frauen durchaus positive Aspekte. Beispiele sind die Kindererziehungszeiten oder die Möglichkeit der kostenfreien Pensionsversicherung während der Pflege von Angehörigen und noch einiges mehr. \nMehr Wissen übers Pensionssystem zahlt sich aus\, denn das staatliche System bietet sichere Möglichkeiten die eigene Pension zu verbessern. \nEin frauenorientiertes Informationsangebot der FORBA Pensionsexpertin Dr.in Ingrid Mairhuber vermittelt Wissen und schützt vor falschen Entscheidungen. \n  \nAnmeldeschluss: 17. 1. 2025 \nEintritt frei! \nDie Veranstaltung ist eine Kooperation mit den Grünen Frauen OÖ.
URL:https://ooe.gbw.at/programm/frauen-pensions-workshop-gmunden/
LOCATION:Stadtbücherei Gmunden\, Traungasse 4\, Gmunden\, Oberösterreich\, 4810\, Austria
CATEGORIES:Workshop
ATTACH;FMTTYPE=image/jpeg:https://ooe.gbw.at/wp-content/uploads/2024/02/GroupOfFemaleSeniors_iStock-1475287700_web1920.jpg
ORGANIZER;CN="Die Gr%C3%BCne Bildungswerkstatt O%C3%96":MAILTO:office.ooe@gbw.at
END:VEVENT
END:VCALENDAR