BEGIN:VCALENDAR
VERSION:2.0
PRODID:-//Die Grüne Bildungswerkstatt Oberösterreich - ECPv6.6.4.2//NONSGML v1.0//EN
CALSCALE:GREGORIAN
METHOD:PUBLISH
X-WR-CALNAME:Die Grüne Bildungswerkstatt Oberösterreich
X-ORIGINAL-URL:https://ooe.gbw.at
X-WR-CALDESC:Veranstaltungen für Die Grüne Bildungswerkstatt Oberösterreich
REFRESH-INTERVAL;VALUE=DURATION:PT1H
X-Robots-Tag:noindex
X-PUBLISHED-TTL:PT1H
BEGIN:VTIMEZONE
TZID:Europe/Vienna
BEGIN:DAYLIGHT
TZOFFSETFROM:+0100
TZOFFSETTO:+0200
TZNAME:CEST
DTSTART:20220327T010000
END:DAYLIGHT
BEGIN:STANDARD
TZOFFSETFROM:+0200
TZOFFSETTO:+0100
TZNAME:CET
DTSTART:20221030T010000
END:STANDARD
BEGIN:DAYLIGHT
TZOFFSETFROM:+0100
TZOFFSETTO:+0200
TZNAME:CEST
DTSTART:20230326T010000
END:DAYLIGHT
BEGIN:STANDARD
TZOFFSETFROM:+0200
TZOFFSETTO:+0100
TZNAME:CET
DTSTART:20231029T010000
END:STANDARD
BEGIN:DAYLIGHT
TZOFFSETFROM:+0100
TZOFFSETTO:+0200
TZNAME:CEST
DTSTART:20240331T010000
END:DAYLIGHT
BEGIN:STANDARD
TZOFFSETFROM:+0200
TZOFFSETTO:+0100
TZNAME:CET
DTSTART:20241027T010000
END:STANDARD
BEGIN:DAYLIGHT
TZOFFSETFROM:+0100
TZOFFSETTO:+0200
TZNAME:CEST
DTSTART:20250330T010000
END:DAYLIGHT
BEGIN:STANDARD
TZOFFSETFROM:+0200
TZOFFSETTO:+0100
TZNAME:CET
DTSTART:20251026T010000
END:STANDARD
END:VTIMEZONE
BEGIN:VEVENT
DTSTART;TZID=Europe/Vienna:20250604T183000
DTEND;TZID=Europe/Vienna:20250604T203000
DTSTAMP:20260424T185454
CREATED:20240903T144510Z
LAST-MODIFIED:20250603T130344Z
UID:10000128-1749061800-1749069000@ooe.gbw.at
SUMMARY:Der Wert unserer Daten
DESCRIPTION:Daten sind das Öl unserer Zeit. Wir werfen gemeinsam einen Blick darauf\, welche Daten wie von wem zu Geld gemacht werden\, wo wir unsere Daten vielleicht zu großzügig hergeben und welche Handlungsmöglichkeiten wir persönlich haben. Die DSGVO wird aus dem Blickwinkel „Persönlichkeitsrecht“ betrachtet und wir diskutieren\, wo wir die DSGVO persönlich konkret anwenden können. \n  \nReferentin: Mag.a Birgit Ernecker\, Digitalisierungsexpertin \n  \nMax. Teilnehmer:innenzahl: 25\, um Anmeldung wird gebeten. \nEintritt frei.
URL:https://ooe.gbw.at/programm/der-wert-unserer-daten-und-die-dsgvo/
LOCATION:Dachsaal der Grünen Bildungswerkstatt OÖ\, Landgutstraße 17\, Linz\, 4040\, Österreich
CATEGORIES:Vortrag,Workshop
ATTACH;FMTTYPE=image/jpeg:https://ooe.gbw.at/wp-content/uploads/2025/06/wert-unserer-daten.jpg
ORGANIZER;CN="Die Gr%C3%BCne Bildungswerkstatt O%C3%96":MAILTO:office.ooe@gbw.at
END:VEVENT
BEGIN:VEVENT
DTSTART;TZID=Europe/Vienna:20250514T183000
DTEND;TZID=Europe/Vienna:20250514T210000
DTSTAMP:20260424T185454
CREATED:20250128T133759Z
LAST-MODIFIED:20250508T121755Z
UID:10000145-1747247400-1747256400@ooe.gbw.at
SUMMARY:Grundlagenwissen Künstliche Intelligenz
DESCRIPTION:Künstliche Intelligenz (KI) oder Artificial Intelligence (AI) ist in aller Munde. Sie fasziniert uns und lässt auch noch viele Fragen offen. In diesem Workshop geben wir einen Überblick über die Grundlagen\, Funktionsweisen und mögliche Einsatzgebiete. Ebenso sehen wir uns an\, wie Deep Fakes generiert werden und lernen\, wie wir diese erkennen können. \nREFERENTIN:\nMag.a Birgit Ernecker (Digitalisierungsexpertin) \n\n  \nEintritt frei. \nMaximale Teilnehmer:innenzahl: 20 \nUm Anmeldung wird gebeten. \n 
URL:https://ooe.gbw.at/programm/grundlagenwissen-kuenstliche-intelligenz/
LOCATION:Dachsaal – Grüne Bildungswerkstatt OÖ\, Landgutstraße 17\, Linz\, 4040\, Österreich
CATEGORIES:Workshop
ATTACH;FMTTYPE=image/jpeg:https://ooe.gbw.at/wp-content/uploads/2025/01/GrundlagenwissenKuenstlicheIntelligenz_Web_1920.jpg
ORGANIZER;CN="Die Gr%C3%BCne Bildungswerkstatt O%C3%96":MAILTO:office.ooe@gbw.at
END:VEVENT
BEGIN:VEVENT
DTSTART;TZID=Europe/Vienna:20220315T183000
DTEND;TZID=Europe/Vienna:20220315T200000
DTSTAMP:20260424T185454
CREATED:20220218T112034Z
LAST-MODIFIED:20220310T123826Z
UID:10000082-1647369000-1647374400@ooe.gbw.at
SUMMARY:Frauenfragen zur Digitalisierung
DESCRIPTION:Im Gespräch – Wie viel Digitalisierung braucht der Mensch? Wie viel Mensch braucht die Digitalisierung?\nFrauenfragen zur Digitalisierung \n  \nIm 2. Teil der GBW-Schwerpunktreihe zum großen Thema „Digitalisierung“ geht es darum\, inwieweit Frauen Nutzerinnen und Designerinnen der digitalen Zukunft sein werden. Wie kann sichergestellt werden\, dass alle Menschen gleichermaßen partizipieren? \n  \nDie Gesprächspartnerinnen bringen unterschiedliche Aspekte in die Diskussion ein: \nDr.in Janina Loh ist Ethiker*in bei der Stiftung Liebenau. Sie stellt ethische und feministische Fragen wie weit KI und Robotik unseren Alltag bestimmen dürfen. Oder wie weit die Nutzung künstlicher Intelligenz unsere kollektiven Vorstellungen von einer lebenswerten Zukunft verwirklichen helfen kann. \nDr.in Ingrid M. Kösten von womanSucess vertritt die These\, dass „New Work“ eine Chance für Frauen ist. Die durch die geschlechtsspezifische Sozialisation erworbenen „soft skills“ sind der Schlüssel zum beruflichen Erfolg und der neue agile Arbeitsmarkt kann Lösungen für die Vereinbarkeit von Beruf und Familie bieten. \nLAbg. Mag.a Dagmar Engl ist seit Herbst 2021 Frauensprecherin der Grünen im Oö Landtag und beschäftigt sich aktuell mit Aspekten der Digitalisierung und deren Rolle\, wenn es um Kontrolle und Partnergewalt gegen Frauen geht. \n  \nModeriert wird das Expertinnengespräch von Brigitte Theißl\, Redakteurin des feministischen Magazin an.schläge und Autorin für verschiedene Medien (u.a. für dieStandard). \n  \nDer Livestream startet am 15. März um 18.30 Uhr: \nhttps://www.youtube.com/watch?v=22v6ykAXeaU
URL:https://ooe.gbw.at/programm/frauenfragen-zur-digitalisierung/
LOCATION:Online via Youtube
CATEGORIES:Online Veranstaltung
ATTACH;FMTTYPE=image/jpeg:https://ooe.gbw.at/wp-content/uploads/2022/02/Digitalisierung_Frauenfragen-220315_1920x1080.jpg
ORGANIZER;CN="Die Gr%C3%BCne Bildungswerkstatt O%C3%96":MAILTO:office.ooe@gbw.at
END:VEVENT
END:VCALENDAR