BEGIN:VCALENDAR
VERSION:2.0
PRODID:-//Die Grüne Bildungswerkstatt Oberösterreich - ECPv6.6.4.2//NONSGML v1.0//EN
CALSCALE:GREGORIAN
METHOD:PUBLISH
X-WR-CALNAME:Die Grüne Bildungswerkstatt Oberösterreich
X-ORIGINAL-URL:https://ooe.gbw.at
X-WR-CALDESC:Veranstaltungen für Die Grüne Bildungswerkstatt Oberösterreich
REFRESH-INTERVAL;VALUE=DURATION:PT1H
X-Robots-Tag:noindex
X-PUBLISHED-TTL:PT1H
BEGIN:VTIMEZONE
TZID:Europe/Vienna
BEGIN:DAYLIGHT
TZOFFSETFROM:+0100
TZOFFSETTO:+0200
TZNAME:CEST
DTSTART:20220327T010000
END:DAYLIGHT
BEGIN:STANDARD
TZOFFSETFROM:+0200
TZOFFSETTO:+0100
TZNAME:CET
DTSTART:20221030T010000
END:STANDARD
END:VTIMEZONE
BEGIN:VEVENT
DTSTART;TZID=Europe/Vienna:20220602T170000
DTEND;TZID=Europe/Vienna:20220602T200000
DTSTAMP:20260423T190450
CREATED:20220505T124303Z
LAST-MODIFIED:20220530T144139Z
UID:10000086-1654189200-1654200000@ooe.gbw.at
SUMMARY:NaturGEHspräch: Artenvielfalt in alten Schottergruben - Steyregg
DESCRIPTION:Großflächige Schottergruben stellen oft maßgebliche Eingriffe in das Landschaftsbild\, den Wasserhaushalt oder in vorhandene Lebensgemeinschaften dar. Als punktuelle Eingriffe tragen sie jedoch unter bestimmten Umständen zur Artenvielfalt bei und sind Lebensraum für verschiedene Tier- und Pflanzenarten. Nach Abbauende entstehen dann Rohböden und manchmal kleine Tümpel mit Wasserpflanzen sowie spontan aufkommendes Buschwerk mit bemerkenswerter Artenvielfalt. \n  \nBei unseren NaturGEHsprächen besuchen wir eine dieser Schottergruben der Fa. Treul und nehmen uns gemeinsam mit ExpertInnen zwei Schotterabbauflächen genauer unter die Lupe\, was sich dort unter dem Aspekt Natur- und Artenschutz alles tut. Weiterer Aspekt: Wie könnte eine naturnahe Nachnutzung konkret aussehen und was die Gemeindepolitik dafür tun kann. \n  \nFachkundliche Begleitung: Martin Kyek\, Claudia Wolkersdorfer \n  \nAnmeldungen bitte per Email an Marco Vanek \nAnmeldeschluss: 1. Juni\, 12 Uhr
URL:https://ooe.gbw.at/programm/naturgehspraech-artenvielfalt-in-alten-schottergruben-steyregg/
CATEGORIES:Natur
ATTACH;FMTTYPE=image/jpeg:https://ooe.gbw.at/wp-content/uploads/2022/05/Schottergrube_-e1651754381621.jpg
ORGANIZER;CN="Die Gr%C3%BCne Bildungswerkstatt O%C3%96":MAILTO:office.ooe@gbw.at
END:VEVENT
BEGIN:VEVENT
DTSTART;TZID=Europe/Vienna:20220612T080000
DTEND;TZID=Europe/Vienna:20220616T170000
DTSTAMP:20260423T190450
CREATED:20220308T162403Z
LAST-MODIFIED:20220601T133006Z
UID:10000083-1655020800-1655398800@ooe.gbw.at
SUMMARY:Bildungsreise Brüssel - Ausgebucht
DESCRIPTION:Auf dieser Bildungsreise besuchen wir die wichtigsten Institutionen der Europäischen Union und nehmen Einblicke in die Arbeit auf europäischer Ebene. Im Europäischen Parlament treffen wir auch die österreichische EU-Abgeordnete der Grünen Monika Vana und hören mehr über ihre Arbeitsweise und Themen. Uns wird auch genügend Zeit bleiben\, um die Stadt Brüssel näher kennenzulernen. \n  \nAnreise: Sonntag\nmit dem Zug ab Linz über Frankfurt nach Brüssel (voraussichtlich ab 8.17 Uhr\, Ankunft ca. 17.30 Uhr)\nkurze Gehzeit vom Bahnhof ins *** Hotel Pillows \nEinchecken und – wer noch möchte – Spaziergang durch das Regierungs- und Königsviertel und gemütlicher Ausklang in einer Kneippe oder an der Hotelbar. \n  \nMontag bis Mittwoch:\nWir planen den Besuch folgender Einrichtungen:\nEuropäisches Parlament mit einem Gespräch mit der EU-Abgeordneten Monika Vana\nEuropäische Kommission \nEuropäischer Rat \nAusschuss der Regionen\nStändige Vertretung Österreichs \ndazwischen planen wir einen geführten gesellschaftspolitischen Stadtrundgang mit einem deutsch-belgischen Historiker durch einen der Stadtteile Brüssels \n  \nRückfahrt am Mittwoch: \nMit dem ÖBB-Nightjet ab Brüssel um ca. 19.25 Uhr direkt nach Linz/Wien \nAnkunft am Donnerstag\,   in Linz um ca. 8.14 Uhr \n  \nReisepreis (Richtpreis):  ca. 400 Euro\, Einzelzimmerzuschlag: ca. 150 Euro\nDen Großteil der Hin- und Rückreisekosten decken wir mit dem zu erwartenden Zuschuss des EU-Parlaments ab (ca. 275 Euro);\nÖBB-Gruppenticket Linz – Brüssel ca. 100 Euro\, Brüssel – Köln mit dem Nightjet im 2er Schlafwagen (ca. 170 Euro); die Preise können je nach Verfügbarkeit von Ticketangeboten auch niedriger sein. Sollte der Zuschuss nicht gewährt werden bzw. niedriger ausfallen\, verrechnen wir den Differenzbetrag nach.\nWer individuell an- oder abreisen möchte\, dem überweisen wir im Nachhinein den nicht in Anspruch genommenen Reisekostenzuschuss. \n  \ninkludiert sind: \n3 Übernachtungen und Frühstück in einem *** Hotel Pillows  auf DZ-Basis\nZugfahrt: Linz – Brüssel – Köln (Nightjet im 2er Schlafwagen mit Frühstück) – Linz/Wien\nAbschlag für niedrigere Nightjet-Kategorie / Aufschlag für Single-Abteil ca. 40 Euro.\n3tägiges Besuchs- und Gesprächsprogramm\nOrganisation und Begleitung durch Marco Vanek (inkl. Anmeldeprozedere bei den EU-Einrichtungen)\npolitische Stadtführung mit einem lokalen Guide (Dauer ca. 3 Stunden) \nInfos und Anmeldung unter office.ooe@gbw.at \n  \nGruppengröße: mindestens 14\, max. 24 TeilnehmerInnen \n  \nnicht inkludiert:\nEssen und Getränke\, Tourismusabgabe (ca. 14 EUR werden vor Ort eingehoben)\, Trinkgelder… \n  \nDiese Reise ist bereits ausgebucht\, freie Plätze im Herbst sind noch verfügbar!
URL:https://ooe.gbw.at/programm/bildungsreise-bruessel-ins-herz-der-europaeischen-union/
LOCATION:Brüssel\, Belgien
CATEGORIES:Bildungsreise
ATTACH;FMTTYPE=image/jpeg:https://ooe.gbw.at/wp-content/uploads/2022/03/belgium-ga8984ef1d_1920-e1646756714973.jpg
ORGANIZER;CN="Die Gr%C3%BCne Bildungswerkstatt O%C3%96":MAILTO:office.ooe@gbw.at
END:VEVENT
BEGIN:VEVENT
DTSTART;TZID=Europe/Vienna:20220629T190000
DTEND;TZID=Europe/Vienna:20220629T210000
DTSTAMP:20260423T190450
CREATED:20220506T072559Z
LAST-MODIFIED:20220506T073323Z
UID:10000088-1656529200-1656536400@ooe.gbw.at
SUMMARY:Im Gespräch: Putins Krieg
DESCRIPTION:Drei Persönlichkeiten mit den unterschiedlichsten Sichtweisen\, Einschätzungen und Zugängen im Gespräch zu „Putins Krieg“ \n  \nMichel Reimon\, Abgeordneter zum Nationalrat\, Autor von „Putins rechte Freunde“ – dieses Buch erschien 2017 im Falter Verlag und zeigt die Verstrickungen europäischer Rechtsparteien mit den russischen „Freunden“ auf. Michel Reimon war damals Abgeordneter zum Europaparlament und hat auch gemeinsam mit Othmar Karas MEP (ÖVP) vor Putin und seinen Machenschaften gewarnt. Leider hat sich das Großmachtstreben Putins auf grausame und völkerrechtswidrige bewahrheitet. Die Verdrehung der Geschichte\, die Entwicklung zum autoritären Staat\, die aktuelle (geo-)politische Situation und die Auswirkungen auf die Welt werden Thema sein. \n  \nLivia Klingl\, Journalistin\, Autorin u.a. von „Die Russen kommen“ und ehemalige Kriegsberichterstatterin\, wird von den Teilen eines Krieges erzählen\, die in keinen Medienberichten zu finden sind. Hautnah hat sie schon viele Kriege und Krisengebiete miterlebt und wird auch ihre Eindrücke zu den aktuellen Geschehnissen einbringen. Ihr Buch „Die Russen kommen“ wurde 2008 publiziert\, ist mittlerweile vergriffen und berichtete über die Oligarchen\, deren Einfluss und was sie mit Österreich zu tun haben. \n  \nRobert Misik\, Journalist und Autor und an diesem Abend in der Funktion als Moderator und Inputgeber. Er selbst hat vor kurzem im Falter und auch auf seinem Blog Artikel zu Putin und der Lage der Ukraine veröffentlicht und ist ein kritischer Zeitgeist\, der einerseits dieses Gespräch moderieren wird\, allerdings werden wir alle auch von seinen Einschätzungen erfahren. \n  \nEintritt frei\, aufgrund der begrenzten Sitzplätze bitten wir um verbindliche Anmeldung unter office.ooe@gbw.at \n  \nEs gelten die aktuellen Corona-Sicherheitsmaßnahmen.
URL:https://ooe.gbw.at/programm/im-gespraech-putins-krieg/
LOCATION:Dachsaal der Grünen Bildungswerkstatt OÖ\, Landgutstraße 17\, Linz\, 4040\, Österreich
CATEGORIES:Diskussion
ATTACH;FMTTYPE=image/jpeg:https://ooe.gbw.at/wp-content/uploads/2022/05/ImGespraech_Krieg_1920_2.jpg
ORGANIZER;CN="Die Gr%C3%BCne Bildungswerkstatt O%C3%96":MAILTO:office.ooe@gbw.at
END:VEVENT
END:VCALENDAR