BEGIN:VCALENDAR
VERSION:2.0
PRODID:-//Die Grüne Bildungswerkstatt Oberösterreich - ECPv6.6.4.2//NONSGML v1.0//EN
CALSCALE:GREGORIAN
METHOD:PUBLISH
X-ORIGINAL-URL:https://ooe.gbw.at
X-WR-CALDESC:Veranstaltungen für Die Grüne Bildungswerkstatt Oberösterreich
REFRESH-INTERVAL;VALUE=DURATION:PT1H
X-Robots-Tag:noindex
X-PUBLISHED-TTL:PT1H
BEGIN:VTIMEZONE
TZID:Europe/Vienna
BEGIN:DAYLIGHT
TZOFFSETFROM:+0100
TZOFFSETTO:+0200
TZNAME:CEST
DTSTART:20230326T010000
END:DAYLIGHT
BEGIN:STANDARD
TZOFFSETFROM:+0200
TZOFFSETTO:+0100
TZNAME:CET
DTSTART:20231029T010000
END:STANDARD
END:VTIMEZONE
BEGIN:VEVENT
DTSTART;VALUE=DATE:20230716
DTEND;VALUE=DATE:20230721
DTSTAMP:20260423T013250
CREATED:20221221T143213Z
LAST-MODIFIED:20230731T093507Z
UID:10000093-1689465600-1689897599@ooe.gbw.at
SUMMARY:Bildungsreise Brüssel: Ins Herz der Europäischen Union
DESCRIPTION:Auf dieser Bildungsreise besuchen wir die wichtigsten Institutionen der Europäischen Union und nehmen Einblicke in die Arbeit auf europäischer Ebene. Im Europäischen Parlament treffen wir auch die österreichische EU-Abgeordnete der Grünen Monika Vana und hören mehr über ihre Arbeitsweise und Themen. Uns wird auch genügend Zeit bleiben\, um die Stadt Brüssel näher kennenzulernen. \n  \nAnreise: Sonntag\nmit dem Zug ab Linz über Passau – Frankfurt nach Brüssel (voraussichtlich ab 8.17 Uhr\, Ankunft ca. 17.30 Uhr)\nkurze Gehzeit ins Hotel \nEinchecken und – wer noch möchte – Spaziergang durch den Stadtteil St. Gilles mit gemütlichen Ausklang \n  \nMontag bis Mittwoch \nWir planen den Besuch folgender Einrichtungen: \n\nEuropäisches Parlament mit einem Gespräch mit der EU-Abgeordneten Monika Vana\nEuropäische Kommission\nEuropäischer Rat\nAusschuss der Regionen & Sozial- und Wirtschaftsausschuss\n\ndazwischen planen wir einen geführten gesellschaftspolitischen Stadtrundgang mit einem deutsch-belgischen Historiker durch einen der Stadtteile Brüssels \n  \nRückfahrt am Mittwoch: \nMit dem ÖBB-Nightjet ab Brüssel um ca.19.25 Uhr direkt nach Linz/Wien \nAnkunft am Donnerstag\, in Linz um ca. 8.14 Uhr \n  \nReisepreis:  435 Euro\, Einzelzimmerzuschlag: 162 Euro\nDen Großteil der Hin- und Rückreisekosten decken wir mit dem zu erwartenden Zuschuss des EU-Parlaments ab (ca. 280 Euro);\nÖBB-Gruppenticket Linz – Brüssel ca. 100 Euro\, Brüssel – Köln mit dem Nightjet im 2er Schlafwagen (ca. 170 Euro); die Preise können je nach Verfügbarkeit von Ticketangeboten auch niedriger sein. Sollte der Zuschuss nicht gewährt werden bzw. niedriger ausfallen\, verrechnen wir den Differenzbetrag nach.\nWer individuell an- oder abreisen möchte\, dem überweisen wir im Nachhinein den nicht in Anspruch genommenen Reisekostenzuschuss. \n  \ninkludiert sind: \n\n3 Übernachtungen und Frühstück in einem *** Hotel  auf DZ-Basis\nZugfahrt: Linz – Brüssel – Köln (Nightjet im 2er Schlafwagen mit Frühstück) – Linz/Wien\nAbschlag für niedrigere Nightjet-Kategorie / Aufschlag für Single-Abteil ca. 40 Euro.\n3tägiges Besuchs- und Gesprächsprogramm\nOrganisation und Begleitung durch Marco Vanek (inkl. Anmeldeprozedere bei den EU-Einrichtungen)\npolitische Stadtführung mit einem lokalen Guide (Dauer ca. 3 Stunden)\n\n  \nGruppengröße: mindestens 11\, max. 20 TeilnehmerInnen \n  \nnicht inkludiert:\nEssen und Getränke\, Tourismusabgabe (ca. 14 EUR werden vor Ort eingehoben)\, Trinkgelder… \n  \nVeranstalter: ROT-Reisen Linz im Auftrag von planetREISEN \neine Reise in Zusammenarbeit mit der Grünen Bildungswerkstatt Oberösterreich und Tirol \n  \n  \nAnmeldungen bis 5. Mai 2023 unter planetreisen.at \n  \nMit der Anmeldung werden unsere Reisebindungen akzeptiert: \nReisebedingungen_GBW
URL:https://ooe.gbw.at/programm/bildungsreise-bruessel-ins-herz-der-europaeischen-union-3/
LOCATION:Brüssel\, Belgien
CATEGORIES:Bildungsreise
ATTACH;FMTTYPE=image/jpeg:https://ooe.gbw.at/wp-content/uploads/2022/12/bruessel-web.jpg
ORGANIZER;CN="Die Gr%C3%BCne Bildungswerkstatt O%C3%96":MAILTO:office.ooe@gbw.at
END:VEVENT
END:VCALENDAR