BEGIN:VCALENDAR
VERSION:2.0
PRODID:-//Die Grüne Bildungswerkstatt Oberösterreich - ECPv6.6.4.2//NONSGML v1.0//EN
CALSCALE:GREGORIAN
METHOD:PUBLISH
X-WR-CALNAME:Die Grüne Bildungswerkstatt Oberösterreich
X-ORIGINAL-URL:https://ooe.gbw.at
X-WR-CALDESC:Veranstaltungen für Die Grüne Bildungswerkstatt Oberösterreich
REFRESH-INTERVAL;VALUE=DURATION:PT1H
X-Robots-Tag:noindex
X-PUBLISHED-TTL:PT1H
BEGIN:VTIMEZONE
TZID:Europe/Vienna
BEGIN:DAYLIGHT
TZOFFSETFROM:+0100
TZOFFSETTO:+0200
TZNAME:CEST
DTSTART:20230326T010000
END:DAYLIGHT
BEGIN:STANDARD
TZOFFSETFROM:+0200
TZOFFSETTO:+0100
TZNAME:CET
DTSTART:20231029T010000
END:STANDARD
END:VTIMEZONE
BEGIN:VEVENT
DTSTART;TZID=Europe/Vienna:20230524T180000
DTEND;TZID=Europe/Vienna:20230524T210000
DTSTAMP:20260422T131314
CREATED:20230130T142203Z
LAST-MODIFIED:20230523T133735Z
UID:10000094-1684951200-1684962000@ooe.gbw.at
SUMMARY:Lebenswelt weiblicher Geflüchteter in OÖ
DESCRIPTION:Studien und Zahlen widerlegen die weit verbreitete Annahme von durchwegs männlichen Flüchtenden: Rund die Hälfte aller Flüchtenden sind Frauen und Mädchen. \nGeflüchtete Frauen tragen oft große Verantwortung in der Familie; sie sind bereits vor und während der Flucht zusätzlichen Gefahren wie geschlechtsspezifischer\, sexueller Gewalt und Diskriminierung ausgesetzt. In der Aufnahmegesellschaft angekommen haben sie im Integrationsprozess eine besondere Rolle\, sie sind in mehrfacher Hinsicht wertvolle Multiplikatorinnen. \nDoch mit welchen Herausforderungen sind Frauen mit Fluchthintergrund konfrontiert\, wenn es um Flucht\, Ankunft und ihre Teilnahme in der Aufnahmegesellschaft geht? Welche Unterstützung gibt es\, wo sind Verbesserungen dringend notwendig? Und welche Rolle spielen dabei Politik\, NGOs und die Zivilgesellschaft? \n  \nDiese Themen\, (Lebens)Erfahrungen und Fragestellungen darüber hinaus werden uns durch die Abendveranstaltung mit anschließender Diskussion begleiten. \n  \nAm Podium sind: \n\nJudith Kohlenberger\, Migrationsforscherin am Institut für Sozialpolitik der WU Wien und Autorin von „Das Fluchtparadox“\nInes Vukajlović\, Sprecherin für Menschenrechte\, Minderheiten\, Gleichstellungspolitik\, Integrations- und Asylpolitik der Grünen OÖ\nElisa Roth\, Flüchtlingsbegleiterin und Projektkoordinatorin bei SOS – Menschenrechte. Aktivistin beider Seebrücke Linz und Umgebung.\n\n  \n  \nBeginn: 18 Uhr\, Einlass ab 17:30 Uhr\, Eintritt frei \n 
URL:https://ooe.gbw.at/programm/lebenswelt-weiblicher-gefluechteter-in-ooe/
LOCATION:Dachsaal der Grünen Bildungswerkstatt OÖ\, Landgutstraße 17\, Linz\, 4040\, Österreich
CATEGORIES:Diskussion,Vortrag
ATTACH;FMTTYPE=image/jpeg:https://ooe.gbw.at/wp-content/uploads/2023/01/LebensweltWeiblicherGefluechteter_Website_1920_2.jpg
ORGANIZER;CN="Die Gr%C3%BCne Bildungswerkstatt O%C3%96":MAILTO:office.ooe@gbw.at
END:VEVENT
END:VCALENDAR