BEGIN:VCALENDAR
VERSION:2.0
PRODID:-//Die Grüne Bildungswerkstatt Oberösterreich - ECPv6.6.4.2//NONSGML v1.0//EN
CALSCALE:GREGORIAN
METHOD:PUBLISH
X-ORIGINAL-URL:https://ooe.gbw.at
X-WR-CALDESC:Veranstaltungen für Die Grüne Bildungswerkstatt Oberösterreich
REFRESH-INTERVAL;VALUE=DURATION:PT1H
X-Robots-Tag:noindex
X-PUBLISHED-TTL:PT1H
BEGIN:VTIMEZONE
TZID:Europe/Vienna
BEGIN:DAYLIGHT
TZOFFSETFROM:+0100
TZOFFSETTO:+0200
TZNAME:CEST
DTSTART:20230326T010000
END:DAYLIGHT
BEGIN:STANDARD
TZOFFSETFROM:+0200
TZOFFSETTO:+0100
TZNAME:CET
DTSTART:20231029T010000
END:STANDARD
END:VTIMEZONE
BEGIN:VEVENT
DTSTART;TZID=Europe/Vienna:20231012T183000
DTEND;TZID=Europe/Vienna:20231012T213000
DTSTAMP:20260420T065205
CREATED:20230703T075226Z
LAST-MODIFIED:20230929T170609Z
UID:10000104-1697135400-1697146200@ooe.gbw.at
SUMMARY:Machbar. Gut gegen Aufschieben.
DESCRIPTION:Buchvorstellung mit Autorin Christina M. Beran. \nNeue Wege aus der Prokrastination = „Aufschieberitis“. \nEs gibt kaum jemanden\, der noch nie eine Aufgabe vor sich hergeschoben hat. Angebliche Lösungen\, wie das allseits bekannte Zeitmanagement frustrieren und erweisen sich als nicht hinreichend hilfreich. Die Psychologin Christina M. Beran zeigt\, wie man den Weg aus der Prokrastination schaffen kann. Sie erklärt\, was es wirklich braucht – abseits von To-Do-Listen – um zielgerichtet arbeiten zu können. Dabei berichtet sie zwischendurch auch aus ihrem persönlichen Aufschiebealltag und räumt mit Mythen auf. \nPassend und dazu ergänzend gibt es ein zweites Buch von Christina zum Kennenlernen:\n„Lern-Hacks“ für dein Studium“: Kennst du dieses Gefühl\, wenn die Prüfung immer näher rückt\, du mit dem Stoff aber noch lange nicht durch bist und einfach nichts hängen bleiben will? Mach dir keine Sorgen – du bist damit nicht allein! So geht es vielen. Warum manches einfach nicht in unseren Kopf will und wie wir unserem Gehirn mit einfachen\, individuellen Hacks dabei helfen können\, wichtige Fakten und Konzepte zu behalten\, weiß die Psychologin. \nAuch hier berichtet sie wieder aus ihrem spannenden Beratungsalltag und zeigt anhand von authentischen Fallgeschichten\, wie durch Individualität\, Leichtigkeit und personalisierten Strategien das Finden des eigenen Lernwegs möglich wird. (Download Leseprobe „Lern-Hacks für dein Studium“) \n  \nHumorvoll moderiert und kommentiert wird der Abend von Dominika Meindl (Schriftstellerin\, Moderatorin und „Präsidentin“ der Lesebühne „Original Linzer Worte“\, https://minkasia.blogspot.com/ )
URL:https://ooe.gbw.at/programm/machbar-gut-gegen-aufschieben/
LOCATION:Dachsaal der Grünen Bildungswerkstatt OÖ\, Landgutstraße 17\, Linz\, 4040\, Österreich
CATEGORIES:Buchpräsentation,Vortrag
ATTACH;FMTTYPE=image/jpeg:https://ooe.gbw.at/wp-content/uploads/2023/07/MachbarGutGegenAufschieben_1920_2.jpg
ORGANIZER;CN="Die Gr%C3%BCne Bildungswerkstatt O%C3%96":MAILTO:office.ooe@gbw.at
END:VEVENT
BEGIN:VEVENT
DTSTART;TZID=Europe/Vienna:20231024T180000
DTEND;TZID=Europe/Vienna:20231024T200000
DTSTAMP:20260420T065205
CREATED:20230918T172404Z
LAST-MODIFIED:20231007T081305Z
UID:10000110-1698170400-1698177600@ooe.gbw.at
SUMMARY:Lebenswelten geflüchteter Frauen in Oberösterreich
DESCRIPTION:Studien und Zahlen widerlegen die weit verbreitete Annahme von durchwegs männlichen Flüchtenden: Rund die Hälfte aller Flüchtenden sind Frauen und Mädchen. \nGeflüchtete Frauen tragen oft große Verantwortung in der Familie; sie sind bereits vor und während der Flucht zusätzlichen Gefahren wie geschlechtsspezifischer\, sexueller Gewalt und Diskriminierung ausgesetzt. In der Aufnahmegesellschaft angekommen haben sie im Integrationsprozess eine besondere Rolle\, sie sind in mehrfacher Hinsicht wertvolle Multiplikatorinnen. \nIn der mittlerweile zweiten Veranstaltung sprechen Frauen mit Fluchtbiografie am Podium. Mit welchen Herausforderungen waren sie konfrontiert\, welche Erwartungen haben sie nach der Flucht und welche stellt ihnen die Gesellschaft\, und was sind notwendige Verbesserungen/Wünsche für die Zukunft? Wie können wir als Politik aber auch als Zivilgesellschaft und Einzelpersonen diese Frauen unterstützen? \nDiese Themen\, (Lebens)Erfahrungen und Fragestellungen werden uns durch die Abendveranstaltung mit (anschließender) Diskussion begleiten. \n  \nAm Podium sind:  \nJudith Kohlenberger\n(Migrationsforscherin am Institut für Sozialpolitik der WU Wien und Autorin von „Das Fluchtparadox“) \nInes Vukajlović\n(LAbg. Grüne OÖ\, Sprecherin für Menschenrechte\, Minderheiten\, Sozialpolitik\, Integrations- und Asylpolitik) \nRenate Heitz \n(LAbg. SPÖ OÖ\, Sprecherin für Frauen\, LGBTIQ\, Personal und SP-Landesfrauenvorsitzende) \nAyan Rezaei \n(Aktivistin und Obfrau des Iranischen Solidaritätsverein Linz) \nRouaa Raid \n(Stellvertreterin der Obfrau des Jasmin Kulturvereins und Bildungszentrums) \nDelna Antia-Tatić \n(Moderation\, Journalistin) \n  \nEintritt frei! \nAnmeldung bitte an: heidi.obermaier@gbw.at \nEine Kooperationsveranstaltung der Grünen Bildungswerkstatt Oberösterreich und der SPÖ Frauen Oberösterreich
URL:https://ooe.gbw.at/programm/lebenswelten-gefluechteter-frauen-in-oberoesterreich/
LOCATION:Pressezentrum im Alten Rathaus Linz  (Hauptplatz)\, Hauptpl. 1 - 5\, Linz\, Oberösterreich\, 4041\, Österreich
CATEGORIES:Diskussion
ATTACH;FMTTYPE=image/jpeg:https://ooe.gbw.at/wp-content/uploads/2023/09/Lebenswelten_Teil2_Web_1920.jpg
ORGANIZER;CN="Die Gr%C3%BCne Bildungswerkstatt O%C3%96":MAILTO:office.ooe@gbw.at
END:VEVENT
END:VCALENDAR