BEGIN:VCALENDAR
VERSION:2.0
PRODID:-//Die Grüne Bildungswerkstatt Oberösterreich - ECPv6.6.4.2//NONSGML v1.0//EN
CALSCALE:GREGORIAN
METHOD:PUBLISH
X-WR-CALNAME:Die Grüne Bildungswerkstatt Oberösterreich
X-ORIGINAL-URL:https://ooe.gbw.at
X-WR-CALDESC:Veranstaltungen für Die Grüne Bildungswerkstatt Oberösterreich
REFRESH-INTERVAL;VALUE=DURATION:PT1H
X-Robots-Tag:noindex
X-PUBLISHED-TTL:PT1H
BEGIN:VTIMEZONE
TZID:Europe/Vienna
BEGIN:DAYLIGHT
TZOFFSETFROM:+0100
TZOFFSETTO:+0200
TZNAME:CEST
DTSTART:20220327T010000
END:DAYLIGHT
BEGIN:STANDARD
TZOFFSETFROM:+0200
TZOFFSETTO:+0100
TZNAME:CET
DTSTART:20221030T010000
END:STANDARD
BEGIN:DAYLIGHT
TZOFFSETFROM:+0100
TZOFFSETTO:+0200
TZNAME:CEST
DTSTART:20230326T010000
END:DAYLIGHT
BEGIN:STANDARD
TZOFFSETFROM:+0200
TZOFFSETTO:+0100
TZNAME:CET
DTSTART:20231029T010000
END:STANDARD
BEGIN:DAYLIGHT
TZOFFSETFROM:+0100
TZOFFSETTO:+0200
TZNAME:CEST
DTSTART:20240331T010000
END:DAYLIGHT
BEGIN:STANDARD
TZOFFSETFROM:+0200
TZOFFSETTO:+0100
TZNAME:CET
DTSTART:20241027T010000
END:STANDARD
END:VTIMEZONE
BEGIN:VEVENT
DTSTART;TZID=Europe/Vienna:20241023T190000
DTEND;TZID=Europe/Vienna:20241023T220000
DTSTAMP:20260424T135654
CREATED:20240903T131914Z
LAST-MODIFIED:20240909T094343Z
UID:10000127-1729710000-1729720800@ooe.gbw.at
SUMMARY:Am weißen Fluss. Die Kinder des Almtals.
DESCRIPTION:Lesung mit musikalischer Umrahmung \nIm Buch verfolgt der Autor Bruno Schernhammer die Schicksale polnischer Zwangsarbeiterinnen im Gau „Oberdonau“ und erzählt von den Bedingungen\, unter denen deren hier geborene Kinder um ihr Überleben kämpfen mussten. \nErzählt wird der Lebenslauf der polnischen „Freiwilligen” Maria\, die sich als Landarbeiterin ins Deutsche Reich gemeldet hat und im Kriegswinter 1943 ein Kind erwartet. In einer weiteren Erzählebene greift der Autor die Geschichte eines anderen Mädchens auf\, das in einer Landgemeinde im Almtal aufwächst. Auch Rosa widerfährt dasselbe Los. \nEin Thema\, das in Österreich kaum im Bewusstsein ist und auch wenig aufgearbeitet ist. \nFür die musikalisch Umrahmung sorgt Grete Dickinger am Akkordeon. \nEintritt frei! \nDie Veranstaltung ist eine Kooperation mit den Grünen Bezirk Ried.
URL:https://ooe.gbw.at/programm/am-weissen-fluss-die-kinder-des-almtals/
LOCATION:Galerie 20gerhaus\, Ried im Innkreis\, Bahnhofstraße 20\, Ried im Innkreis\, Oberösterreich\, 4910\, Österreich
CATEGORIES:Buchpräsentation
ATTACH;FMTTYPE=image/jpeg:https://ooe.gbw.at/wp-content/uploads/2024/09/AmWeissenFluss_Website_1920x1080.jpg
ORGANIZER;CN="Die Gr%C3%BCne Bildungswerkstatt O%C3%96":MAILTO:office.ooe@gbw.at
END:VEVENT
BEGIN:VEVENT
DTSTART;TZID=Europe/Vienna:20220629T190000
DTEND;TZID=Europe/Vienna:20220629T210000
DTSTAMP:20260424T135654
CREATED:20220506T072559Z
LAST-MODIFIED:20220506T073323Z
UID:10000088-1656529200-1656536400@ooe.gbw.at
SUMMARY:Im Gespräch: Putins Krieg
DESCRIPTION:Drei Persönlichkeiten mit den unterschiedlichsten Sichtweisen\, Einschätzungen und Zugängen im Gespräch zu „Putins Krieg“ \n  \nMichel Reimon\, Abgeordneter zum Nationalrat\, Autor von „Putins rechte Freunde“ – dieses Buch erschien 2017 im Falter Verlag und zeigt die Verstrickungen europäischer Rechtsparteien mit den russischen „Freunden“ auf. Michel Reimon war damals Abgeordneter zum Europaparlament und hat auch gemeinsam mit Othmar Karas MEP (ÖVP) vor Putin und seinen Machenschaften gewarnt. Leider hat sich das Großmachtstreben Putins auf grausame und völkerrechtswidrige bewahrheitet. Die Verdrehung der Geschichte\, die Entwicklung zum autoritären Staat\, die aktuelle (geo-)politische Situation und die Auswirkungen auf die Welt werden Thema sein. \n  \nLivia Klingl\, Journalistin\, Autorin u.a. von „Die Russen kommen“ und ehemalige Kriegsberichterstatterin\, wird von den Teilen eines Krieges erzählen\, die in keinen Medienberichten zu finden sind. Hautnah hat sie schon viele Kriege und Krisengebiete miterlebt und wird auch ihre Eindrücke zu den aktuellen Geschehnissen einbringen. Ihr Buch „Die Russen kommen“ wurde 2008 publiziert\, ist mittlerweile vergriffen und berichtete über die Oligarchen\, deren Einfluss und was sie mit Österreich zu tun haben. \n  \nRobert Misik\, Journalist und Autor und an diesem Abend in der Funktion als Moderator und Inputgeber. Er selbst hat vor kurzem im Falter und auch auf seinem Blog Artikel zu Putin und der Lage der Ukraine veröffentlicht und ist ein kritischer Zeitgeist\, der einerseits dieses Gespräch moderieren wird\, allerdings werden wir alle auch von seinen Einschätzungen erfahren. \n  \nEintritt frei\, aufgrund der begrenzten Sitzplätze bitten wir um verbindliche Anmeldung unter office.ooe@gbw.at \n  \nEs gelten die aktuellen Corona-Sicherheitsmaßnahmen.
URL:https://ooe.gbw.at/programm/im-gespraech-putins-krieg/
LOCATION:Dachsaal der Grünen Bildungswerkstatt OÖ\, Landgutstraße 17\, Linz\, 4040\, Österreich
CATEGORIES:Diskussion
ATTACH;FMTTYPE=image/jpeg:https://ooe.gbw.at/wp-content/uploads/2022/05/ImGespraech_Krieg_1920_2.jpg
ORGANIZER;CN="Die Gr%C3%BCne Bildungswerkstatt O%C3%96":MAILTO:office.ooe@gbw.at
END:VEVENT
END:VCALENDAR