BEGIN:VCALENDAR
VERSION:2.0
PRODID:-//Die Grüne Bildungswerkstatt Oberösterreich - ECPv6.6.4.2//NONSGML v1.0//EN
CALSCALE:GREGORIAN
METHOD:PUBLISH
X-WR-CALNAME:Die Grüne Bildungswerkstatt Oberösterreich
X-ORIGINAL-URL:https://ooe.gbw.at
X-WR-CALDESC:Veranstaltungen für Die Grüne Bildungswerkstatt Oberösterreich
REFRESH-INTERVAL;VALUE=DURATION:PT1H
X-Robots-Tag:noindex
X-PUBLISHED-TTL:PT1H
BEGIN:VTIMEZONE
TZID:Europe/Vienna
BEGIN:DAYLIGHT
TZOFFSETFROM:+0100
TZOFFSETTO:+0200
TZNAME:CEST
DTSTART:20240331T010000
END:DAYLIGHT
BEGIN:STANDARD
TZOFFSETFROM:+0200
TZOFFSETTO:+0100
TZNAME:CET
DTSTART:20241027T010000
END:STANDARD
END:VTIMEZONE
BEGIN:VEVENT
DTSTART;TZID=Europe/Vienna:20240112T150000
DTEND;TZID=Europe/Vienna:20240113T180000
DTSTAMP:20260423T135645
CREATED:20231108T152713Z
LAST-MODIFIED:20240108T091542Z
UID:10000112-1705071600-1705168800@ooe.gbw.at
SUMMARY:Rhetorik-Workshop: Hört mir zu!
DESCRIPTION:„Eine gute Rede hat einen guten Anfang und ein gutes Ende\, und beide sollten möglichst dicht beieinanderliegen.“\n(Mark Twain) \n  \nIn diesem Workshop widmen wir uns mit viel Freude allen erdenklichen grundlegenden Fertigkeiten\, die das Sprechen vor Publikum erleichtern: rhetorische Tricks\, klare Körpersprache und Improvisationskraft. \nZiele\n• Die Teilnehmer:innen wissen\, wie sie zu einer guten inneren Haltung kommen und wie sie diese auch in schwierigen Situationen (Vortrag\, Störungen\, Diskussionen …) bewahren.\n• Sie kennen die wichtigsten Tools\, um ihre Inhalte logisch\, aber auch ziel- und bedürfnisorientiert aufzubereiten.\n• Die Teilnehmer:innen erlangen (Selbst-)Sicherheit und kennen alle rhetorischen Tricks \n  \nInhalte: \n\nGrundlagen der Präsentation: Körpersprache\, Stimme\, Status\, Fokus\nSich klar ausdrücken und gehört werden: Tipps und Techniken für konstruktives Argumentieren und für den Aufbau von Redebeiträgen\nUmgang mit Unerwartetem: Störungen bewältigen mit der Kraft der Improvisation\nÜbungen\, die die Teilnehmer:innen sanft aus der Komfortzone schubsen\, aber vor denen sich niemand fürchten muss\nAnwendung des Gelernten anhand von Beispielen aus der Praxis der Teilnehmenden\n\n  \nTrainer:innen: Elisabeth Gräf und Roman Kellner von Wort und Weise\, www.wortundweise.at \n  \n\nMindestanzahl an Teilnehmer:innen: 10 \n(wenn es weniger als 10 Teilnehmer:innen gibt\, findet dieser Workshop nicht statt!) \nMaximale Anzahl an Teilnehmer:innen: 16 \nKosten/Seminarpauschale pro Person: EUR 150\,– inkl. Verpflegung. \nPreis für GBW-Mitglieder: EUR 75\,–\, \nPreis für Mitglieder aus den Grünen Teilorganisationen EUR 100\,– \n  \n  \nTagesverpflegung ist inkludiert. Am Freitagabend ist ein gemeinsames Abendessen geplant. \nSelbst zu tragen sind die Kosten der An- und Abreise bzw. ev. Übernachtungen. \nVeranstaltungsort: Hotel Bründl\, Badweg 1\, 4190 Leonfelden \n 
URL:https://ooe.gbw.at/programm/rhetorik-workshop-hoert-mir-zu/
LOCATION:Hotel Bründl Bad Leonfelden\, Badweg 1\, Bad Leonfelden\, 4190\, Österreich
CATEGORIES:Seminar
ATTACH;FMTTYPE=image/jpeg:https://ooe.gbw.at/wp-content/uploads/2023/11/Hoer-mir-zu.jpg
ORGANIZER;CN="Die Gr%C3%BCne Bildungswerkstatt O%C3%96":MAILTO:office.ooe@gbw.at
END:VEVENT
END:VCALENDAR