BEGIN:VCALENDAR
VERSION:2.0
PRODID:-//Die Grüne Bildungswerkstatt Oberösterreich - ECPv6.6.4.2//NONSGML v1.0//EN
CALSCALE:GREGORIAN
METHOD:PUBLISH
X-ORIGINAL-URL:https://ooe.gbw.at
X-WR-CALDESC:Veranstaltungen für Die Grüne Bildungswerkstatt Oberösterreich
REFRESH-INTERVAL;VALUE=DURATION:PT1H
X-Robots-Tag:noindex
X-PUBLISHED-TTL:PT1H
BEGIN:VTIMEZONE
TZID:Europe/Vienna
BEGIN:DAYLIGHT
TZOFFSETFROM:+0100
TZOFFSETTO:+0200
TZNAME:CEST
DTSTART:20250330T010000
END:DAYLIGHT
BEGIN:STANDARD
TZOFFSETFROM:+0200
TZOFFSETTO:+0100
TZNAME:CET
DTSTART:20251026T010000
END:STANDARD
END:VTIMEZONE
BEGIN:VEVENT
DTSTART;VALUE=DATE:20250308
DTEND;VALUE=DATE:20250311
DTSTAMP:20260424T211909
CREATED:20250128T142220Z
LAST-MODIFIED:20250307T093518Z
UID:10000147-1741392000-1741651199@ooe.gbw.at
SUMMARY:Reden wir drüber: Wer macht die lebenswichtige Arbeit?
DESCRIPTION:Die Arbeit des Versorgens\, der Fürsorge füreinander passiert seit langem wie selbstverständlich und unsichtbar und ist aber das Fundament unserer Wirtschaft. Ohne Care-Arbeit sind weder Gewerbe noch Industrie\, Handel oder Dienstleistungen möglich. Ohne Care-Arbeit stünde alles still. \nGenau darüber will die Grüne Bildungswerkstatt in einem Online-Symposium reden.\nAb März gibt es die ersten Vorträge zum volkswirtschaftlichen Nutzen von Care-Arbeit. Weiter geht es mit den Auswirkungen der Ungleichverteilung von Care-Arbeit auf Berufsbiografie und Pensionen. Abgerundet wird damit\, was ein kommunales Care-Budget der Gemeinde und ihren Bürger:innen bringt. \n  \nREFERENTINNEN:\nElisabeth Sechser\, MSc (CaringEconomy.Jetzt): Die unbezahlte Sorgearbeit in Zeit und Geld\nDr.in Katharina Mader (Chefökonomin Momentum Institiut): Wert und Konsequenzen unbezahlter Care-arbeit auf die persönlichen Biografien\nDr.in Elisabeth Klatzer (fair sorgen! Österreich): Nutzen eines kommunalen Care-Budgets für Gemeinde und Bürger:innen \n  \n-> HIER GEHT´S ZU DEN VORTRÄGEN
URL:https://ooe.gbw.at/programm/reden-wir-drueber/
LOCATION:Online-Symposium\, Austria
CATEGORIES:Online Veranstaltung
ATTACH;FMTTYPE=image/jpeg:https://ooe.gbw.at/wp-content/uploads/2025/01/WerMachtDieLebenswichtigeArbeit_Web_1920.jpg
ORGANIZER;CN="Die Gr%C3%BCne Bildungswerkstatt O%C3%96":MAILTO:office.ooe@gbw.at
END:VEVENT
END:VCALENDAR